BEGIN:VCALENDAR
VERSION:2.0
PRODID:-//Fundación CIAB - ECPv6.0.9//NONSGML v1.0//EN
CALSCALE:GREGORIAN
METHOD:PUBLISH
X-WR-CALNAME:Fundación CIAB
X-ORIGINAL-URL:https://www.fundacionciab.com
X-WR-CALDESC:Eventos para Fundación CIAB
REFRESH-INTERVAL;VALUE=DURATION:PT1H
X-Robots-Tag:noindex
X-PUBLISHED-TTL:PT1H
BEGIN:VTIMEZONE
TZID:UTC
BEGIN:STANDARD
TZOFFSETFROM:+0000
TZOFFSETTO:+0000
TZNAME:UTC
DTSTART:20260101T000000
END:STANDARD
END:VTIMEZONE
BEGIN:VEVENT
DTSTART;TZID=UTC:20260411T110000
DTEND;TZID=UTC:20260411T130000
DTSTAMP:20260422T194807
CREATED:20260407T101133Z
LAST-MODIFIED:20260407T101323Z
UID:3333-1775905200-1775912400@www.fundacionciab.com
SUMMARY:Ecodesayuno Literario
DESCRIPTION:Inocencia salvaje: las niñas jarrapas de Andrea Abreu\, de Sandra González Reina se presenta el próximo sábado\, 11 de abril\, a las 11:00 horas\, en El Paso \nEl libro es un ensayo ilustrado sobre la importancia de la mirada femenina infantil en la conocida obra de Andrea Abreu \nEl acto será acompañado de un desayuno de productos ecológicos\, locales y de temporada de la Asociación La Cernícala \nSe rematará el acto con un paseo por la finca de La Cernícala donde se ubica su punto de venta\, dando continuidad al conversatorio previo \n  \nSandra González Reina\, conocida artísticamente como margullito\, viene presentando desde finales de 2025 su primer libro que\, a su vez\, es el primero que se ha escrito sobre una de las obras más conocidas y difundidas de la narrativa canaria reciente: Panza de burro\, de la tinerfeña Andrea Abreu. Lo hace en un ensayo de cien páginas titulado Inocencia salvaje: las niñas jarrapas de Andrea Abreu\, que estrenó la colección\, El 7 de la lengua\, de Mercurio Editorial. \nSerá presentado este sábado\, 11 de abril\, a las 11:00 horas\, en el Punto de venta de la Asociación La Cernícala (Paso Abajo 77\, El Paso)\, en La Palma. La autora dialogará sobre su libro con José Miguel Perera\, escritor y coordinador de la colección. Serán introducidos por las responsables de la Asociación La Cernícala\, que darán a conocer su proyecto y que rematarán el acto con un paseo por una de sus fincas\, dando continuidad al conversatorio previo. \nEn su ensayo\, Sandra González explica cómo se fundamenta la mirada crítica ante la realidad de dos mujeres adolescentes canarias rodeadas de un espacio y un tiempo rurales determinados\, que condiciona sus vidas con rotundidad: la alimentación\, la precariedad económica\, la sexualidad\, lo femenino\, sus juegos y gustos personales… A esto se suma un aspecto original del ensayo: las ilustraciones en blanco y negro que incluye la propia autora\, artísticamente conocida como margullito\, que para ella son una forma más de interpretar Panza de burro. \nLa mañana será amenizada con un ecodesayuno realizado con productos de las fincas del colectivo organizador\, ecológicos y de temporada. Es fundamental que quienes deseen disfrutar del desayuno lo comuniquen previamente en el teléfono 652 85 37 81. Así\, el día se presenta no solo propicio para hablar y profundizar sobre una de las obras literarias más importantes de los últimos tiempos\, sino para profundizar con gusto y conciencia en algunas de las particularidades de la sociedad canaria y de la propia iniciativa de La Cernícala. La presente actividad está financiada por el CIAB  del Cabildo de La Palma. \n  \nSandra González Reina (Moya\, Gran Canaria\, 1997) es poeta e ilustradora\, graduada en Lengua Española y Literaturas Hispánicas por la ULPGC y docente de Lengua y Literatura en Secundaria. Crea el proyecto artístico margullito en 2021\, donde fusiona lo literario y lo visual a partir de cuerpos casi nunca normativos y de variados elementos de la cultura canaria\, con el que colabora en la revista digital BienMeSabe.org. Ha expuesto en varias ocasiones\, individual y colectivamente\, y además ha trabajado como diseñadora en portadas de libros y en discos de agrupaciones musicales como Tierra de Fuego y Arube\, entre otras actividades gráficas. Forma parte de la Asociación Cultural G21 (Generación del 21)\, una agrupación de jóvenes artistas canarios de diferentes disciplinas\, donde interviene como ilustradora y poeta.
URL:https://www.fundacionciab.com/evento/ecodesayuno-literario/
LOCATION:Punto de Venta La Cernícala\, Calle Paso Abajo\, nº 77\, El Paso\, Santa Cruz de Tenerife\, 38758\, España
CATEGORIES:Formación
ATTACH;FMTTYPE=image/jpeg:https://www.fundacionciab.com/wp-content/uploads/2026/04/cartel-panza-burro.jpeg
ORGANIZER;CN="La%20Cern%C3%ADcala":MAILTO:lacernicala@gmail.com
END:VEVENT
END:VCALENDAR